BEGIN:VCALENDAR
VERSION:2.0
CALSCALE:GREGORIAN
PRODID:adamgibbons/ics
METHOD:PUBLISH
X-PUBLISHED-TTL:PT1H
BEGIN:VEVENT
UID:909@koledar.kompot.si
SUMMARY:Bralni krožek - Politična šola borke Vide - Aleksandra Kollontaj
DTSTAMP:20260420T200013Z
DTSTART:20260422T150000Z
DTEND:20260422T170000Z
DESCRIPTION:VABILO NA BRALNI KROŽEK\n\nvsako sredo ob 17ih v A-infoshop (AK
	C MM)\n\nSrečanja potekajo v sklopu Politične šole borke Vide. Tokrat konč
	ujemo z branjem\nAleksandre Kollontaj in njenega pisma delovni mladini. Pi
	smo je zagovor\ntovarištva in politična analiza ljubezni in njenega spremi
	njanja skozi različna\nzgodovinska obdobja.\n\nZa udeležbo na bralnem krož
	ku ni potrebno predznanje\, niti domače branje. Beremo\nskupaj in naglas t
	er se ustavimo pri vsaki nejasnosti. Izbiramo besedila\, ki so\nlahko razu
	mljiva vsakomur. Nove bralke in bralci dobrodošli kadarkoli.\nNatisnjeni i
	zvodi besedil so na voljo na krožku.\n\n\nAntiavtoritarna Platforma je avt
	onomna politična organizacija\, ki v teoriji in\npraksi gradi alternative 
	dominantnemu družbenemu redu. Zavzemamo se za korenite\nin široke družbene
	 spremembe v smeri svobode\, enakosti in solidarnosti ter za\nodpravo kapi
	talizma in patriarhata.\n\na-platforma@riseup.net\nwww.anarhistka.org [htt
	ps://www.anarhistka.org]
URL:https://koledar.kompot.si/event/bralni-krozek-politicna-sola-borke-vide
	-aleksandra-kollontaj
LOCATION:A-Infoshop - AKC Metelkova Mesto
STATUS:CONFIRMED
CATEGORIES:A-Infoshop,Antiavtoritarna platforma,bralni krožek
X-ALT-DESC;FMTTYPE=text/html:<p><strong>VABILO NA BRALNI KROŽEK</strong><br
	><br><strong>vsako sredo ob 17ih v A-infoshop (AKC MM)</strong></p><p>Sreč
	anja potekajo v sklopu Politične šole borke Vide. Tokrat  končujemo z bran
	jem Aleksandre Kollontaj in njenega pisma delovni mladini<strong>.</strong
	> Pismo je zagovor tovarištva in politična analiza ljubezni in njenega spr
	eminjanja skozi različna zgodovinska obdobja.</p><p>Za udeležbo na bralnem
	 krožku ni potrebno predznanje, niti domače branje. Beremo skupaj in nagla
	s ter se ustavimo pri vsaki nejasnosti. Izbiramo besedila, ki so lahko raz
	umljiva vsakomur. Nove bralke in bralci dobrodošli kadarkoli. Natisnjeni i
	zvodi besedil so na voljo na krožku.<br><br><br>A<em>ntiavtoritarna Platfo
	rma je avtonomna politična organizacija, ki v teoriji in praksi gradi alte
	rnative dominantnemu družbenemu redu. Zavzemamo se za korenite in široke d
	ružbene spremembe v smeri svobode, enakosti in solidarnosti ter za odpravo
	 kapitalizma in patriarhata.</em></p><p>a-platforma@riseup.net<br><a targe
	t="_blank" href="https://www.anarhistka.org">www.anarhistka.org</a></p>
BEGIN:VALARM
ACTION:DISPLAY
DESCRIPTION:Bralni krožek - Politična šola borke Vide - Aleksandra Kollonta
	j
TRIGGER:-PT1H
END:VALARM
END:VEVENT
END:VCALENDAR
