BEGIN:VCALENDAR
VERSION:2.0
CALSCALE:GREGORIAN
PRODID:adamgibbons/ics
METHOD:PUBLISH
X-PUBLISHED-TTL:PT1H
BEGIN:VEVENT
UID:912@koledar.kompot.si
SUMMARY:LeftClick Opening
DTSTAMP:20260421T124342Z
DTSTART:20260423T170000Z
DTEND:20260423T180000Z
DESCRIPTION:LeftClick is opening. Finally. Again.
URL:https://koledar.kompot.si/event/leftclick-opening
GEO:46.067007200000006;14.52208513573195
LOCATION:43 Linhartova cesta - 43 Linhartova cesta\, Ljubljana\, Slovenia
STATUS:CONFIRMED
CATEGORIES:
X-ALT-DESC;FMTTYPE=text/html:<p>LeftClick is opening. Finally. Again.</p>
BEGIN:VALARM
ACTION:DISPLAY
DESCRIPTION:LeftClick Opening
TRIGGER:-PT1H
END:VALARM
END:VEVENT
END:VCALENDAR
