BEGIN:VCALENDAR
VERSION:2.0
CALSCALE:GREGORIAN
PRODID:adamgibbons/ics
METHOD:PUBLISH
X-PUBLISHED-TTL:PT1H
BEGIN:VEVENT
UID:911@koledar.kompot.si
SUMMARY:PRVOMAJSKO ZBOROVANJE: Pohod skozi delavski naselji Fužine in Štepa
	njc
DTSTAMP:20260421T011115Z
DTSTART:20260501T110000Z
URL:https://koledar.kompot.si/event/prvomajsko-zborovanje-pohod-skozi-delav
	ski-naselji-fuzine-in-stepanjc
LOCATION:Nove Fužine\, Preglov trg - Preglov trg 15\, Ljubljana
STATUS:CONFIRMED
CATEGORIES:1. maj,Ambasada Rog,Antiavtoritarna platforma,delavski boj,manif
	estacija,zborovanje
END:VEVENT
END:VCALENDAR
