BEGIN:VCALENDAR
VERSION:2.0
CALSCALE:GREGORIAN
PRODID:adamgibbons/ics
METHOD:PUBLISH
X-PUBLISHED-TTL:PT1H
BEGIN:VEVENT
UID:913@koledar.kompot.si
SUMMARY:c| srečanje № 35: Slovenjenje prostega programja
DTSTAMP:20260422T000406Z
DTSTART:20260507T150000Z
DTEND:20260507T180000Z
URL:https://koledar.kompot.si/event/cor-srecanje-numero-35-slovenjenje-pros
	tega-programja
GEO:46.0685368;14.4903191
LOCATION:Computer Museum - 111 Celovška cesta\, Ljubljana\, Slovenia
STATUS:CONFIRMED
CATEGORIES:
END:VEVENT
END:VCALENDAR
